BEGIN:VCALENDAR
VERSION:2.0
PRODID:-//Tukios.com/
BEGIN:VEVENT
UID:8169ea1b-22cc-4f50-8b32-b6431b5a0835@www.lucasbatton.com
DTSTAMP:20260424T233404Z
DTSTART:20260627T150000Z
DTEND:20260627T160000Z
SUMMARY:Celebration of Life
DESCRIPTION:
URL:https://www.lucasbatton.com/obituaries/debora-hines
LOCATION:Trinity Evangelical Church 108 Malabar Drive  Upper Sandusky OH 
	43351
GEO:40.8294339;-83.2547138
END:VEVENT
END:VCALENDAR